BEGIN:VCALENDAR
VERSION:2.0
PRODID:-//hacksw/handcal//NONSGML v1.0//EN
BEGIN:VEVENT
DTSTART:20260430T170000Z
DTEND:20260430T190000Z
LOCATION:Âmbar - Caen \n41 Boulevard Maréchal Leclerc \n14000 CAEN
ORGANIZER;CN=Céline Giraud:MAILTO:cgiraud@e2se.fr
SUMMARY:AFTERWORK #4 | Jeudi 30/04/2029 - 19h
DESCRIPTION:Cher membre alumni E2SE,Nous avons le plaisir de vous convier à notre prochaine soirée AFTERWORK #4 des anciens diplômés d'E2SE :Le jeudi 30 avril 2025 à l'Âmbar à Caen - à partir de 19h00.\n👉Retrouve...
URL:https://alumni.e2se.fr/fr/event/afterwork-4-jeudi-30-04-2029-19h/2026/04/30/18
BEGIN:VALARM
TRIGGER:-P0DT1H0M0S
ACTION:DISPLAY
END:VALARM
END:VEVENT
END:VCALENDAR